Workbook

Sheet 符合挂网条件中成药公示表
A1: 附件1
A2: 符合挂网条件中成药公示表
A3: 序号 | B3: 药品统一编码 | C3: 产品名称 | D3: 剂型 | E3: 规格包装 | F3: 生产企业 | G3: 投标企业 | H3: 报价（元/包装）
A4: 1 | B4: ZA10BAC0142010102624 | C4: {=_xlfn.XLOOKUP(B4,[1]梳理366!$R:$R,[1]梳理366!$U:$V)} -> 参芪五味子胶囊 | D4: 胶囊剂 | E4: =_xlfn.XLOOKUP(B4,[1]梳理366!$R:$R,[1]梳理366!$X:$X) -> 每粒装0.21g×216粒/盒 | F4: {=_xlfn.XLOOKUP(B4,[1]梳理366!$R:$R,[1]梳理366!$Z:$AA)} -> 华夏国药(菏泽)制药有限公司 | G4: 华夏国药(菏泽)制药有限公司 | H4: =_xlfn.XLOOKUP(B4,[1]梳理366!$R:$R,[1]梳理366!$AE:$AE) -> 148.05
A5: 2 | B5: ZA06BBC0426010105390 | C5: {=_xlfn.XLOOKUP(B5,[1]梳理366!$R:$R,[1]梳理366!$U:$V)} -> 川贝止咳糖浆 | D5: 糖浆剂 | E5: =_xlfn.XLOOKUP(B5,[1]梳理366!$R:$R,[1]梳理366!$X:$X) -> 每瓶装100ml×1瓶/盒 | F5: {=_xlfn.XLOOKUP(B5,[1]梳理366!$R:$R,[1]梳理366!$Z:$AA)} -> 江西钟山药业有限责任公司 | G5: 广西壮族自治区药物研究所有限公司 | H5: =_xlfn.XLOOKUP(B5,[1]梳理366!$R:$R,[1]梳理366!$AE:$AE) -> 17.98
A6: 3 | B6: ZA09AAC0503020301120 | C6: {=_xlfn.XLOOKUP(B6,[1]梳理366!$R:$R,[1]梳理366!$U:$V)} -> 刺五加片 | D6: 糖衣片 | E6: =_xlfn.XLOOKUP(B6,[1]梳理366!$R:$R,[1]梳理366!$X:$X) -> 每片重0.3g×100片/盒 | F6: {=_xlfn.XLOOKUP(B6,[1]梳理366!$R:$R,[1]梳理366!$Z:$AA)} -> 锦州福寿堂医药科技有限公司 | G6: 锦州福寿堂医药科技有限公司 | H6: =_xlfn.XLOOKUP(B6,[1]梳理366!$R:$R,[1]梳理366!$AE:$AE) -> 70
A7: 4 | B7: ZG01AAD0282010204920 | C7: {=_xlfn.XLOOKUP(B7,[1]梳理366!$R:$R,[1]梳理366!$U:$V)} -> 跌打活血胶囊 | D7: 胶囊剂 | E7: =_xlfn.XLOOKUP(B7,[1]梳理366!$R:$R,[1]梳理366!$X:$X) -> 每粒装0.5克×48粒/盒 | F7: {=_xlfn.XLOOKUP(B7,[1]梳理366!$R:$R,[1]梳理366!$Z:$AA)} -> 湖南方盛制药股份有限公司 | G7: 湖南方盛制药股份有限公司 | H7: =_xlfn.XLOOKUP(B7,[1]梳理366!$R:$R,[1]梳理366!$AE:$AE) -> 35.91
A8: 5 | B8: ZD01CAD0383010104365 | C8: {=_xlfn.XLOOKUP(B8,[1]梳理366!$R:$R,[1]梳理366!$U:$V)} -> 断血流片 | D8: 薄膜衣片 | E8: =_xlfn.XLOOKUP(B8,[1]梳理366!$R:$R,[1]梳理366!$X:$X) -> 每片重0.35g×24片/盒 | F8: {=_xlfn.XLOOKUP(B8,[1]梳理366!$R:$R,[1]梳理366!$Z:$AA)} -> 安庆回音必制药股份有限公司 | G8: 安庆回音必制药股份有限公司 | H8: =_xlfn.XLOOKUP(B8,[1]梳理366!$R:$R,[1]梳理366!$AE:$AE) -> 24.96
A9: 6 | B9: ZA01CAF0010010105892 | C9: {=_xlfn.XLOOKUP(B9,[1]梳理366!$R:$R,[1]梳理366!$U:$V)} -> 防风通圣丸(浓缩丸) | D9: 浓缩丸 | E9: =_xlfn.XLOOKUP(B9,[1]梳理366!$R:$R,[1]梳理366!$X:$X) -> 每8丸相当于原药材3g×200丸/瓶 | F9: {=_xlfn.XLOOKUP(B9,[1]梳理366!$R:$R,[1]梳理366!$Z:$AA)} -> 兰州佛慈制药股份有限公司 | G9: 兰州佛慈制药股份有限公司 | H9: =_xlfn.XLOOKUP(B9,[1]梳理366!$R:$R,[1]梳理366!$AE:$AE) -> 20
A10: 7 | B10: ZZ01AAF0628030101948 | C10: {=_xlfn.XLOOKUP(B10,[1]梳理366!$R:$R,[1]梳理366!$U:$V)} -> 复方太子参止咳益气散 | D10: 散剂 | E10: =_xlfn.XLOOKUP(B10,[1]梳理366!$R:$R,[1]梳理366!$X:$X) -> 每袋装4g×6袋/盒 | F10: {=_xlfn.XLOOKUP(B10,[1]梳理366!$R:$R,[1]梳理366!$Z:$AA)} -> 武汉贝参药业股份有限公司 | G10: 武汉贝参药业股份有限公司 | H10: =_xlfn.XLOOKUP(B10,[1]梳理366!$R:$R,[1]梳理366!$AE:$AE) -> 54.79
A11: 8 | B11: ZA01BAG0117010100332 | C11: {=_xlfn.XLOOKUP(B11,[1]梳理366!$R:$R,[1]梳理366!$U:$V)} -> 感冒清片 | D11: 片剂(薄膜衣) | E11: =_xlfn.XLOOKUP(B11,[1]梳理366!$R:$R,[1]梳理366!$X:$X) -> 每素片重0.22g(含对乙酰氨基酚12mg)×100片/盒 | F11: {=_xlfn.XLOOKUP(B11,[1]梳理366!$R:$R,[1]梳理366!$Z:$AA)} -> 广东省罗浮山白鹤制药厂 | G11: 广东省罗浮山白鹤制药厂 | H11: =_xlfn.XLOOKUP(B11,[1]梳理366!$R:$R,[1]梳理366!$AE:$AE) -> 9.72
A12: 9 | B12: ZA09AAH0319030102148 | C12: {=_xlfn.XLOOKUP(B12,[1]梳理366!$R:$R,[1]梳理366!$U:$V)} -> 黄芪片 | D12: 片剂(薄膜衣) | E12: =_xlfn.XLOOKUP(B12,[1]梳理366!$R:$R,[1]梳理366!$X:$X) -> 每片重0.55g×240片/盒 | F12: {=_xlfn.XLOOKUP(B12,[1]梳理366!$R:$R,[1]梳理366!$Z:$AA)} -> 四川国康药业有限公司 | G12: 四川国康药业有限公司 | H12: =_xlfn.XLOOKUP(B12,[1]梳理366!$R:$R,[1]梳理366!$AE:$AE) -> 194.33
A13: 10 | B13: ZA06BAJ0100030202039 | C13: {=_xlfn.XLOOKUP(B13,[1]梳理366!$R:$R,[1]梳理366!$U:$V)} -> 健肺丸 | D13: 水丸 | E13: =_xlfn.XLOOKUP(B13,[1]梳理366!$R:$R,[1]梳理366!$X:$X) -> 1.5g/袋(每10丸重1.5g)×12袋/盒 | F13: {=_xlfn.XLOOKUP(B13,[1]梳理366!$R:$R,[1]梳理366!$Z:$AA)} -> 成都九芝堂金鼎药业有限公司 | G13: 成都九芝堂金鼎药业有限公司 | H13: =_xlfn.XLOOKUP(B13,[1]梳理366!$R:$R,[1]梳理366!$AE:$AE) -> 98
A14: 11 | B14: ZA12GAJ0177020103806 | C14: {=_xlfn.XLOOKUP(B14,[1]梳理366!$R:$R,[1]梳理366!$U:$V)} -> 健心片 | D14: 片剂(糖衣片) | E14: =_xlfn.XLOOKUP(B14,[1]梳理366!$R:$R,[1]梳理366!$X:$X) -> 无×45片/盒 | F14: {=_xlfn.XLOOKUP(B14,[1]梳理366!$R:$R,[1]梳理366!$Z:$AA)} -> 哈尔滨天地药业有限公司 | G14: 黑龙江省布家唐药业有限公司 | H14: =_xlfn.XLOOKUP(B14,[1]梳理366!$R:$R,[1]梳理366!$AE:$AE) -> 67.5
A15: 12 | B15: ZA06CAJ0683021105095 | C15: {=_xlfn.XLOOKUP(B15,[1]梳理366!$R:$R,[1]梳理366!$U:$V)} -> 橘红颗粒 | D15: 颗粒剂 | E15: =_xlfn.XLOOKUP(B15,[1]梳理366!$R:$R,[1]梳理366!$X:$X) -> 每袋装11g×15袋/盒 | F15: {=_xlfn.XLOOKUP(B15,[1]梳理366!$R:$R,[1]梳理366!$Z:$AA)} -> 恒拓集团南宁仁盛制药有限公司 | G15: 恒拓集团南宁仁盛制药有限公司 | H15: =_xlfn.XLOOKUP(B15,[1]梳理366!$R:$R,[1]梳理366!$AE:$AE) -> 18.66
... A37: 34 | B37: ZB01BAS0014010104804 | C37: {=_xlfn.XLOOKUP(B37,[1]梳理366!$R:$R,[1]梳理366!$U:$V)} -> 赛霉安散 | D37: 散剂 | E37: =_xlfn.XLOOKUP(B37,[1]梳理366!$R:$R,[1]梳理366!$X:$X) -> 10g×1瓶/瓶 | F37: {=_xlfn.XLOOKUP(B37,[1]梳理366!$R:$R,[1]梳理366!$Z:$AA)} -> 福建省泉州亚泰制药有限公司 | G37: 福建省泉州亚泰制药有限公司 | H37: =_xlfn.XLOOKUP(B37,[1]梳理366!$R:$R,[1]梳理366!$AE:$AE) -> 29.6
